BEGIN:VCALENDAR
VERSION:2.0
PRODID:-//Tukios.com/
BEGIN:VEVENT
UID:aacf7677-68e5-4697-b2ac-93099c992fb8@www.gatewayforestlawn.com
DTSTAMP:20260421T170053Z
DTSTART:20260423T150000Z
DTEND:20260423T160000Z
SUMMARY:Funeral Service
DESCRIPTION:
URL:https://www.gatewayforestlawn.com/obituaries/wesley-gucker
LOCATION:Athens Baptist Church 9090 Southwest County Road 240  Lake City 
	FL 32024
GEO:30.0593928;-82.7434351
END:VEVENT
END:VCALENDAR