BEGIN:VCALENDAR
VERSION:2.0
PRODID:-//Tukios.com/
BEGIN:VEVENT
UID:b1a2bd38-01f1-443f-93cc-cd555eda5d88@www.gatewayforestlawn.com
DTSTAMP:20260424T214657Z
DTSTART:20260430T180000Z
DTEND:20260430T190000Z
SUMMARY:Interment
DESCRIPTION:
URL:https://www.gatewayforestlawn.com/obituaries/mary-abramson
LOCATION:Jacksonville National Cemetery 4083 Lannie Rd  Jacksonville FL 
	32218
GEO:30.546554;-81.7189314
END:VEVENT
END:VCALENDAR