BEGIN:VCALENDAR
VERSION:2.0
PRODID:-//Tukios.com/
BEGIN:VEVENT
UID:3765793e-0958-4c1a-946a-47859b4a1b8a@www.gatewayforestlawn.com
DTSTAMP:20260424T215326Z
DTSTART:20260429T180000Z
DTEND:20260429T190000Z
SUMMARY:Funeral Service
DESCRIPTION:
URL:https://www.gatewayforestlawn.com/obituaries/mary-abramson
LOCATION:Gateway-Forest Lawn Memorial Chapel 3596 U.S. 441  Lake City FL 
	32025
GEO:30.1406995;-82.635375
END:VEVENT
END:VCALENDAR