BEGIN:VCALENDAR
VERSION:2.0
PRODID:-//Tukios.com/
BEGIN:VEVENT
UID:fe1ce357-fa91-4f48-9045-49ae9ab50039@www.gatewayforestlawn.com
DTSTAMP:20260424T214908Z
DTSTART:20260429T170000Z
DTEND:20260429T180000Z
SUMMARY:Visitation
DESCRIPTION:
URL:https://www.gatewayforestlawn.com/obituaries/mary-abramson
LOCATION:Gateway-Forest Lawn Memorial Chapel 3596 U.S. 441  Lake City FL 
	32025
GEO:30.1406995;-82.635375
END:VEVENT
END:VCALENDAR