BEGIN:VCALENDAR
VERSION:2.0
PRODID:-//Tukios.com/
BEGIN:VEVENT
UID:5d731572-d293-4d5c-81b2-3bbf2dbec1ed@www.gatewayforestlawn.com
DTSTAMP:20260423T040015Z
DTSTART:20260504T150000Z
DTEND:20260504T160000Z
SUMMARY:Funeral Service
DESCRIPTION:
URL:https://www.gatewayforestlawn.com/obituaries/lois-hines
LOCATION:Gateway-Forest Lawn Memorial Chapel 3596 U.S. 441  Lake City FL 
	32025
GEO:30.1406995;-82.635375
END:VEVENT
END:VCALENDAR