BEGIN:VCALENDAR
VERSION:2.0
PRODID:-//Tukios.com/
BEGIN:VEVENT
UID:962c4ae0-7898-493f-a687-5efc1b739b70@www.gatewayforestlawn.com
DTSTAMP:20260423T035535Z
DTSTART:20260504T140000Z
DTEND:20260504T150000Z
SUMMARY:Visitation
DESCRIPTION:
URL:https://www.gatewayforestlawn.com/obituaries/lois-hines
LOCATION:Gateway-Forest Lawn Funeral Home and Crematory Inc. 3596 US-41  
	Lake City FL 32025
GEO:30.1399031;-82.6341343
END:VEVENT
END:VCALENDAR