BEGIN:VCALENDAR
VERSION:2.0
PRODID:-//Tukios.com/
BEGIN:VEVENT
UID:023ef2e2-1e9d-4290-bba5-3661c1e00b3f@www.gatewayforestlawn.com
DTSTAMP:20260421T200356Z
DTSTART:20260424T180000Z
DTEND:20260424T190000Z
SUMMARY:Funeral Service
DESCRIPTION:
URL:https://www.gatewayforestlawn.com/obituaries/james-robert-davis
LOCATION: 3596 US-41  Lake City FL 32025
GEO:30.1399031;-82.6341343
END:VEVENT
END:VCALENDAR