BEGIN:VCALENDAR
VERSION:2.0
PRODID:-//Tukios.com/
BEGIN:VEVENT
UID:eb8b7a7e-4308-4a87-9f52-fd5003a3d703@www.gatewayforestlawn.com
DTSTAMP:20260421T200847Z
DTSTART:20260424T170000Z
DTEND:20260424T180000Z
SUMMARY:Visitation
DESCRIPTION:
URL:https://www.gatewayforestlawn.com/obituaries/james-robert-davis
LOCATION: 3596 US-41  Lake City FL 32025
GEO:30.1399031;-82.6341343
END:VEVENT
END:VCALENDAR